BEGIN:VCALENDAR
VERSION:2.0
PRODID:-//Boulder View Tavern - ECPv6.15.18//NONSGML v1.0//EN
CALSCALE:GREGORIAN
METHOD:PUBLISH
X-WR-CALNAME:Boulder View Tavern
X-ORIGINAL-URL:https://www.boulderviewtavern.com
X-WR-CALDESC:Events for Boulder View Tavern
REFRESH-INTERVAL;VALUE=DURATION:PT1H
X-Robots-Tag:noindex
X-PUBLISHED-TTL:PT1H
BEGIN:VTIMEZONE
TZID:America/New_York
BEGIN:DAYLIGHT
TZOFFSETFROM:-0500
TZOFFSETTO:-0400
TZNAME:EDT
DTSTART:20250309T070000
END:DAYLIGHT
BEGIN:STANDARD
TZOFFSETFROM:-0400
TZOFFSETTO:-0500
TZNAME:EST
DTSTART:20251102T060000
END:STANDARD
BEGIN:DAYLIGHT
TZOFFSETFROM:-0500
TZOFFSETTO:-0400
TZNAME:EDT
DTSTART:20260308T070000
END:DAYLIGHT
BEGIN:STANDARD
TZOFFSETFROM:-0400
TZOFFSETTO:-0500
TZNAME:EST
DTSTART:20261101T060000
END:STANDARD
BEGIN:DAYLIGHT
TZOFFSETFROM:-0500
TZOFFSETTO:-0400
TZNAME:EDT
DTSTART:20270314T070000
END:DAYLIGHT
BEGIN:STANDARD
TZOFFSETFROM:-0400
TZOFFSETTO:-0500
TZNAME:EST
DTSTART:20271107T060000
END:STANDARD
END:VTIMEZONE
BEGIN:VEVENT
DTSTART;TZID=America/New_York:20260417T180000
DTEND;TZID=America/New_York:20260417T210000
DTSTAMP:20260421T044738
CREATED:20260325T132638Z
LAST-MODIFIED:20260325T132638Z
UID:22712-1776448800-1776459600@www.boulderviewtavern.com
SUMMARY:Live music featuring Ashley Marquez
DESCRIPTION:Ashley Marquez\nEnjoy live music by Ashley Marquez tonight at Boulder View Tavern from 6 pm to 9 pm!
URL:https://www.boulderviewtavern.com/event/ashley-marquez-10/
LOCATION:Boulder View Tavern\, 123 Lake Harmony Road\, Lake Harmony\, PA\, 18624\, United States
CATEGORIES:Entertainment
END:VEVENT
END:VCALENDAR